BEGIN:VCALENDAR
VERSION:2.0
PRODID:-//ChamberMaster//Event Calendar 2.0//EN
METHOD:PUBLISH
X-PUBLISHED-TTL:P3D
REFRESH-INTERVAL:P3D
CALSCALE:GREGORIAN
BEGIN:VEVENT
DTSTART:20260620T010000Z
DTEND:20260620T030000Z
X-MICROSOFT-CDO-ALLDAYEVENT:FALSE
SUMMARY:The Texas Tenors | Live In Concert
DESCRIPTION:Music lovers in Central Illinois are in for an unforgettable evening as The Texas Tenors take the stage at Five Points Washington on Friday\, June 19\, 2026. Known for their breathtaking vocals\, genre-crossing repertoire\, and engaging stage presence\, the trio promises a performance that blends country\, classical\, Broadway\, and pop into one extraordinary concert experience. Since rising to national prominence as finalists on America's Got Talent\, The Texas Tenors have become one of the most successful and beloved vocal groups in the world. Their unique sound combining tenor voices with rich harmonies and heartfelt storytelling has earned them multiple accolades\, a devoted fan base\, and millions of album sales. Audiences can expect a dynamic setlist featuring everything from patriotic anthems and country classics to operatic favorites and contemporary hits. With a reputation for delivering both powerful performances and genuine connection with their audience\, The Texas Tenors continue to captivate fans of all ages. The concert will take place at Five Points Washington\, a premier performing arts venue known for hosting high-quality entertainment in an intimate and welcoming setting. The Texas Tenors will perform live at Five Points Washington\, Washington\, IL. One show only. RESERVED SEATS ON SALE APRIL 17th. Doors open at 7:00pm and showtime will be 8:00pm. All ages are welcome to this indoor concert. Plenty of Free parking on site.
X-ALT-DESC;FMTTYPE=text/html:Music lovers in Central Illinois are in for an unforgettable evening as The Texas Tenors take the stage at Five Points Washington on Friday\, June 19\, 2026. Known for their breathtaking vocals\, genre-crossing repertoire\, and engaging stage presence\, the trio promises a performance that blends country\, classical\, Broadway\, and pop into one extraordinary concert experience. Since rising to national prominence as finalists on America&rsquo\;s Got Talent\, The Texas Tenors have become one of the most successful and beloved vocal groups in the world. Their unique sound&mdash\;combining tenor voices with rich harmonies and heartfelt storytelling&mdash\;has earned them multiple accolades\, a devoted fan base\, and millions of album sales. Audiences can expect a dynamic setlist featuring everything from patriotic anthems and country classics to operatic favorites and contemporary hits. With a reputation for delivering both powerful performances and genuine connection with their audience\, The Texas Tenors continue to captivate fans of all ages. The concert will take place at Five Points Washington\, a premier performing arts venue known for hosting high-quality entertainment in an intimate and welcoming setting. The Texas Tenors will perform live at Five Points Washington\, Washington\, IL. One show only. RESERVED SEATS ON SALE APRIL 17th. Doors open at 7:00pm and showtime will be 8:00pm. All ages are welcome to this indoor concert. Plenty of Free parking on site.
LOCATION:Five Points Washington 360 North Wilmor Rd Washington\, IL 61571
UID:e.1312.9363
SEQUENCE:3
DTSTAMP:20260421T131803Z
URL:https://business.washingtonilcoc.com/events/details/the-texas-tenors-live-in-concert-9363
END:VEVENT

END:VCALENDAR
