BEGIN:VCALENDAR
VERSION:2.0
PRODID:-//ChamberMaster//Event Calendar 2.0//EN
METHOD:PUBLISH
X-PUBLISHED-TTL:P3D
REFRESH-INTERVAL:P3D
CALSCALE:GREGORIAN
BEGIN:VEVENT
DTSTART:20260608T180000Z
DTEND:20260608T200000Z
X-MICROSOFT-CDO-ALLDAYEVENT:FALSE
SUMMARY:Memory Makers Memory Cafe
DESCRIPTION:Memory Makers Memory Caf  Five Points Washington is launching the Memory Makers Memory Cafe\, a monthly social program for individuals living with memory loss and their caregivers. Participants will enjoy engaging activities in a safe\, supportive setting. Free to the public\, no membership required.
X-ALT-DESC;FMTTYPE=text/html:Memory Makers Memory Caf&eacute\; Five Points Washington is launching the Memory Makers Memory Cafe\, a monthly social program for individuals living with memory loss and their caregivers. Participants will enjoy engaging activities in a safe\, supportive setting. Free to the public\, no membership required.
LOCATION:Five Points Washington Miller Senior Room
UID:e.1312.9362
SEQUENCE:3
DTSTAMP:20260421T131805Z
URL:https://business.washingtonilcoc.com/events/details/memory-makers-memory-cafe-06-08-2026-9362
END:VEVENT

END:VCALENDAR
