BEGIN:VCALENDAR
VERSION:2.0
PRODID:-//ChamberMaster//Event Calendar 2.0//EN
METHOD:PUBLISH
X-PUBLISHED-TTL:P3D
REFRESH-INTERVAL:P3D
CALSCALE:GREGORIAN
BEGIN:VEVENT
DTSTART:20260506T160000Z
DTEND:20260506T170000Z
X-MICROSOFT-CDO-ALLDAYEVENT:FALSE
SUMMARY:Make AI Work for Coaches\, Consultants\, and Creators - Grow with Google
DESCRIPTION:Heard the buzz about AI\, but wondering what it actually means for your business? This workshop cuts through the noise. By exploring practical applications and real-life examples from business owners like you\, you'll leave with a personalized plan to put AI to work for your business right away. You won't just learn about Google AI tools   you'll get hands-on practice. More importantly\, you'll discover when and how to use them strategically to tackle common business challenges. What You'll Learn: * Write Effective Prompts: Get clear\, targeted results from AI by defining exactly what you need. * Generate Innovative Ideas: Brainstorm solutions and overcome business hurdles when you feel stuck. * Streamline Repetitive Tasks: Use AI tools to help you save time and valuable resources. Built for: * Small business owners new to digital marketing * Entrepreneurs looking to take control of their Google presence * Local businesses that want to show up in search and maps
X-ALT-DESC;FMTTYPE=text/html:Heard the buzz about AI\, but wondering what it actually means for your business? This workshop cuts through the noise. By exploring practical applications and real-life examples from business owners like you\, you&rsquo\;ll leave with a personalized plan to put AI to work for your business right away. You won&#39\;t just learn about Google AI tools &ndash\; you&#39\;ll get hands-on practice. More importantly\, you&#39\;ll discover when and how to use them strategically to tackle common business challenges. What You&rsquo\;ll Learn: * Write Effective Prompts: Get clear\, targeted results from AI by defining exactly what you need. * Generate Innovative Ideas: Brainstorm solutions and overcome business hurdles when you feel stuck. * Streamline Repetitive Tasks: Use AI tools to help you save time and valuable resources. Built for: * Small business owners new to digital marketing * Entrepreneurs looking to take control of their Google presence * Local businesses that want to show up in search and maps
LOCATION:https://us06web.zoom.us/meeting/register/q_uhsgDjTqqGvfiBFGvWIg
UID:e.1312.9367
SEQUENCE:3
DTSTAMP:20260424T205838Z
URL:https://business.washingtonilcoc.com/events/details/make-ai-work-for-coaches-consultants-and-creators-grow-with-google-9367
END:VEVENT

END:VCALENDAR
