BEGIN:VCALENDAR
VERSION:2.0
PRODID:-//ChamberMaster//Event Calendar 2.0//EN
METHOD:PUBLISH
X-PUBLISHED-TTL:P3D
REFRESH-INTERVAL:P3D
CALSCALE:GREGORIAN
BEGIN:VEVENT
DTSTART:20260517T003000Z
DTEND:20260517T023000Z
X-MICROSOFT-CDO-ALLDAYEVENT:FALSE
SUMMARY:Legends of Country
DESCRIPTION:Country meets orchestra in this high-energy Heartland Festival Orchestra concert featuring Nashville artists Rachel Potter and Patrick Thomas. Enjoy iconic hits from Patsy Cline\, Dolly Parton\, Johnny Cash\, Loretta Lynn\, Garth Brooks\, and Kenny Rogers reimagined with rich orchestral sound and standout vocals. A lively\, crowd-pleasing tribute to the legends of country music. Dust off your boots and join us!
X-ALT-DESC;FMTTYPE=text/html:Country meets orchestra in this high-energy Heartland Festival Orchestra concert featuring Nashville artists Rachel Potter and Patrick Thomas. Enjoy iconic hits from Patsy Cline\, Dolly Parton\, Johnny Cash\, Loretta Lynn\, Garth Brooks\, and Kenny Rogers&mdash\;reimagined with rich orchestral sound and standout vocals. A lively\, crowd-pleasing tribute to the legends of country music. Dust off your boots and join us!
LOCATION:Five Points Washington 360 North Wilmor Road Washington\, IL\, 61571
UID:e.1312.9364
SEQUENCE:3
DTSTAMP:20260421T182027Z
URL:https://business.washingtonilcoc.com/events/details/legends-of-country-9364
END:VEVENT

END:VCALENDAR
