BEGIN:VCALENDAR
VERSION:2.0
PRODID:-//ChamberMaster//Event Calendar 2.0//EN
METHOD:PUBLISH
X-PUBLISHED-TTL:P3D
REFRESH-INTERVAL:P3D
CALSCALE:GREGORIAN
BEGIN:VEVENT
DTSTART:20260425T140000Z
DTEND:20260425T200000Z
X-MICROSOFT-CDO-ALLDAYEVENT:FALSE
SUMMARY:Hopewell Grange Spring Vendor Event
DESCRIPTION:Stop by Hopewell Grange Hall on Grange road in Washington. Shop one-of-a-kind keepsakes for the mom & loved ones in your life. Local vendors and independent businesses will be selling unique and handcrafted items including exquisite jewelry\, handmade crafts\, home decor\, fashion\, art\, wellness products\, food and beverages\, and so much more.
X-ALT-DESC;FMTTYPE=text/html:Stop by Hopewell Grange Hall on Grange road in Washington. Shop one-of-a-kind keepsakes for the mom &amp\; loved ones in your life. Local vendors and independent businesses will be selling unique and handcrafted items including exquisite jewelry\, handmade crafts\, home decor\, fashion\, art\, wellness products\, food and beverages\, and so much more.
LOCATION:Hopewell Grange Hall 474 Grange Rd Washington IL 61571
UID:e.1312.9365
SEQUENCE:3
DTSTAMP:20260421T055307Z
URL:https://business.washingtonilcoc.com/events/details/hopewell-grange-spring-vendor-event-9365
END:VEVENT

END:VCALENDAR
