BEGIN:VCALENDAR
VERSION:2.0
PRODID:-//ChamberMaster//Event Calendar 2.0//EN
METHOD:PUBLISH
X-PUBLISHED-TTL:P3D
REFRESH-INTERVAL:P3D
CALSCALE:GREGORIAN
BEGIN:VEVENT
DTSTART:20260426T170000Z
DTEND:20260426T190000Z
X-MICROSOFT-CDO-ALLDAYEVENT:FALSE
SUMMARY:Hopewell Grange Spaghetti Drive thru Fundraiser
DESCRIPTION:Stop by Hopewell Grange Hall in Washington & Enjoy a home made meal without the kitchen clean up & sink full of dishes. Let us pamper you for a meal. Don't worry about "What's for dinner?" Let us handle it! Join us for our Spaghetti Drive-Thru Fundraiser. Hot\, delicious meals delivered right to your car window.
X-ALT-DESC;FMTTYPE=text/html:Stop by Hopewell Grange Hall in Washington &amp\; Enjoy a home made meal without the kitchen clean up &amp\; sink full of dishes. Let us pamper you for a meal. Don&rsquo\;t worry about &quot\;What&rsquo\;s for dinner?&quot\; Let us handle it! Join us for our Spaghetti Drive-Thru Fundraiser. Hot\, delicious meals delivered right to your car window.
LOCATION:Hopewell Grange Hall 474 Grange Rd Washington IL 61571
UID:e.1312.9366
SEQUENCE:3
DTSTAMP:20260421T085245Z
URL:https://business.washingtonilcoc.com/events/details/hopewell-grange-spaghetti-drive-thru-fundraiser-9366
END:VEVENT

END:VCALENDAR
